BEGIN:VCALENDAR
VERSION:2.0
PRODID:-//eventon.com NONSGML v1.0//EN
CALSCALE:GREGORIAN
METHOD:PUBLISH
BEGIN:VEVENT
UID:69ebdd9f52bbd
DTSTAMP:20260424T211615Z
DTSTART:20160514T080000Z
DTEND:20160515T160000Z
LOCATION:Bosei Idrætshøjskole Evensølundvej 5\,  Præstø
SUMMARY:Sosai Mindelejr 2016 - Oyama Kinen Gassuko - Bosei
DESCRIPTION:[gview file=&#8221;https://farumkyokushin.dk/wp-content/uploads
 /2016/03/Bosei-kyokushin-2016.pdf&#8221; height=&#8221;450px&#8221; width=&
 #8221;100%&#8221; save=&#8221;1&#8243;]\nhttps://farumkyokushin.dk/events/s
 osai-mindelejr-2016-oyama-kinen-gassuko-bosei/
URL:https://farumkyokushin.dk/events/sosai-mindelejr-2016-oyama-kinen-gassuko-bosei/
END:VEVENT
END:VCALENDAR