BEGIN:VCALENDAR
VERSION:2.0
PRODID:-//eventon.com NONSGML v1.0//EN
CALSCALE:GREGORIAN
METHOD:PUBLISH
BEGIN:VEVENT
UID:69ebf77568d67
DTSTAMP:20260424T230629Z
DTSTART:20160605T073000Z
DTEND:20160604T230000Z
LOCATION:Farum Kyokushin Karate Ryttergårdsvej 140\,  3520 Farum
SUMMARY:Katastævne 2016
DESCRIPTION:[gview file=&#8221;https://farumkyokushin.dk/wp-content/uploads
 /2016/03/Katastævne2016.pdf&#8221; height=&#8221;550px&#8221; width=&#8221
 ;100%&#8221; save=&#8221;1&#8243;]\nhttps://farumkyokushin.dk/events/katast
 aevne-2016/
URL:https://farumkyokushin.dk/events/katastaevne-2016/
END:VEVENT
END:VCALENDAR