BEGIN:VCALENDAR
VERSION:2.0
PRODID:-//eventon.com NONSGML v1.0//EN
CALSCALE:GREGORIAN
METHOD:PUBLISH
BEGIN:VEVENT
UID:69eb6341db763
DTSTAMP:20260424T123409Z
DTSTART:20160208T170000Z
DTEND:20160208T183000Z
LOCATION:Farum Kyokushin Karate Ryttergårdsvej 140\,  3520 Farum
SUMMARY:Fastelavnstræning 2016
DESCRIPTION:[gview file=&#8221;https://farumkyokushin.dk/wp-content/uploads
 /2016/01/Fastelavnstræning.pdf&#8221; height=&#8221;500px&#8221; width=&#8
 221;100%&#8221; save=&#8221;1&#8243;]\nhttps://farumkyokushin.dk/events/fas
 telavnstraening-2016/
URL:https://farumkyokushin.dk/events/fastelavnstraening-2016/
END:VEVENT
END:VCALENDAR