BEGIN:VCALENDAR
VERSION:2.0
PRODID:-//eventon.com NONSGML v1.0//EN
CALSCALE:GREGORIAN
METHOD:PUBLISH
BEGIN:VEVENT
UID:69ec32d7cddce
DTSTAMP:20260425T031951Z
DTSTART:20160207T104500Z
DTEND:20160206T230000Z
LOCATION:Farum Bytorv Farum Bytorv 73\,  3520 Farum
SUMMARY:Tøndeslagning på Farum Bytorv
DESCRIPTION:[gview file=&#8221;https://farumkyokushin.dk/wp-content/uploads
 /2016/01/Tøndeslagning_FB.pdf&#8221; height=&#8221;500px&#8221; width=&#82
 21;100%&#8221; save=&#8221;1&#8243;]\nhttps://farumkyokushin.dk/events/toen
 deslagning-paa-farum-bytorv/
URL:https://farumkyokushin.dk/events/toendeslagning-paa-farum-bytorv/
END:VEVENT
END:VCALENDAR